Workbook

Sheet Project Description
A1: Analysis of TRB’s Research Needs Statements (RNS) Database for Records Related to Sustainability
C2: Table 1: Comprehensive Definition of Sustainable Transportation
A3: The purpose of this analysis was to determine the extent to which the topic of sustainable transportation is addressed in the proposed research projects listed in the TRB Research Needs Statements (RNS) database (http://rns.trb.org/). | C3: Dimension | D3: Area | E3: A sustainable transportation system…
C4: Environment | D4: Health and Environmental Damage | E4: minimizes activities that cause serious public health concerns and damage to the environment;
A5: What is meant by sustainability? | D5: Standards | E5: maintains high environmental quality and human health standards throughout urban and rural areas;
A6: While definitions of sustainability and sustainable development vary considerably, most comprehensive definitions of sustainable development consider impacts in the three areas of environment, economy, and society (equity), sometimes referred to as the "three Es". Within these three broad areas, different topics in sustainability were identified (see Table 1), and for each record, the areas of sustainability which it addressed were noted (up to three). Records were then given a "Sustainability Score" based on how well the proposed project addresses one or more of the three Es. | D6: Noise | E6: minimizes the production of noise;
D7: Land Use | E7: minimizes the use of land;
D8: Emissions and Waste | E8: limits emissions and waste to levels within the planet’s ability to absorb them, and does not aggravate adverse global phenomena including climate change, stratospheric ozone depletion, and the spread of persistent organic pollutants;
A9: Search terms: | D9: Renewable Resources | E9: ensures that renewable resources are managed and used in ways that do not diminish the capacity of ecological systems to continue providing these resources;
A10: Although there are theoretically many terms that could fall under one of the three dimensions of sustainability, for the purposes of this research effort, terms were chosen that were expected to garner as many records as possible while still remaining relevant to sustainability. The terms used in the searches for this study were: economic development, economy, environment, equity, society, sustainability, and sustainable. Where multiple search terms pulled up the same record, this is noted in subsequent "Search Term" fields in the "Records" tab. Obviously, there are more terms that could be used for additional searches, including conservation, preservation, energy, safety, and others. | D10: Non-renewable Resources | E10: ensures that non-renewable resources are used at or below the rate of development of renewable substitutes;
D11: Energy | E11: is powered by renewable energy sources; and
D12: Recycling | E12: reuses and recycles its components.
C13: Equity/Society | D13: Access | E13: provides access to goods, resources, and services while reducing the need to travel;
D14: Safety | E14: operates safely; ensures the secure movement of people and goods
A15: How records were scored: | D15: Intragenerational Equity | E15: promotes equity between societies and groups within the current generation, specifically in relation to concerns for environmental justice; and
A16: Scoring the RNS records in terms of whether they address issues of sustainability and in what ways was largely a subjective exercise. Using the Table 1 information, the evaluator determined which, if any, of the listed sustainability topics was clearly addressed in the RNS record. The record was given up to a full point in each of the three categories (Environment, Economy and Equity); half points were given where some aspect of that sustainability dimension was addressed. For example, a record that only discussed safety issues would score 0.5 for its "Equity" score, whereas a record that addressed multiple societal aspects, such as safety and access, or safety and access and intragenerational equity, was recognized as addressing equity/society in a more comprehensive way, and so was given a full point. All records received a score between 0 and 3 (up to 1 point in each category). It should also be noted that in some cases, a record's research focus may have the potential to impact sustainability beyond the category/categories indicated, but this was not explicitly discussed in the problem description, research objective or other piece of the proposal. For example, the record entitled "Modern Streetcars and Economic Development: The Rest of the Story" specifically discussed streetcar research that focuses solely on economic impact, even though streetcar promotion might also have environmental or even social impacts. For this reason, its total score was 0.5 (awarded in the "Economy" category). | D16: Intergenerational Equity | E16: promotes equity between generations.
C17: Economy | D17: Affordability | E17: is affordable;
D18: Efficiency | E18: operates efficiently to support a competitive economy; and
D19: Social Cost | E19: ensures that users pay the full social and environmental costs for their transportation decisions.
D20: Employment | E20: provides meaningful and well-paid employment opportunities.

Sheet Records
W1: Sustainability Score
A2: Project | B2: Link | C2: Date Posted | D2: Description | E2: Sponsoring Committee | F2: Search Term | G2: Search Term | H2: Search Term | I2: Search Term | J2: Search Term | K2: Sust. Topic | L2: Sust. Topic | M2: Sust. Topic | N2: Primary Category | O2: Secondary Category | P2: TRB Subject | Q2: TRB Subject | R2: TRB Subject | S2: TRB Subject | T2: TRB Subject | U2: TRB Subject | V2: TRB Subject | W2: Environment | X2: Economy | Y2: Equity | Z2: Total
A3: Data for Health and Transportation Planning and Programs | B3: http://rns.trb.org/dproject.asp?n=32623 | C3: 41165 | D3: Research problem statement Transportation agencies are facing an increasing need to include public health concerns in their transportation decision-making and planning. This need manifests itself in several areas of the National Environmental Policy Act process, MPO and State DOT long range plans and at the project design level. Yet, the various health analyses are generally not required of transportation agencies and in most cases the needed tools and data are not readily accessible or known to the transportation agencies. The reasons for this vary; but suffice it to say that the need to consider public health in transportation plans and programs is on the rise nationally. relationships to the existing body of knowledge Safety is a good example of an area where people have been aligning health and transportation data. For example, research groups such as SafeTREC at UC Berkeley have created GIS-based crash databases that include layers of health data (e.g., areas where a high proportion of students are eligible for reduced-price school lunch), with safe routes to school data and crash information. Another safety data source, Crash Outcome Data Evaluation System (CODES), goes a step further and links police-reported crash data with injury data from hospital records. One of the primary limitations of using health data for transportation decision-making is that health data are often aggregated to a geographic scale that is too large for analyzing the effects of specific transportation interventions. A further limitation is the level of confidentiality required for health data. These data constraints can limit detailed and fine-grained analysis for transportation plans and programs. Yet there are examples where groups are using neighborhood- and county-level data to understand health and transportation. Cities such as Madison, WI have GIS-based systems of neighborhood-level sustainability indicators that include health and transportation data. The County Health Rankings combine health outcomes (morbidity and mortality) with behavioral, social, and built-environment factors for nearly all counties in the US, and it includes measures of the food environment, physical activity, and traffic-related injury. These examples highlight the potential to combine health and transportation data in a practical way, as well was strategies that work for communicating data and information. Relevant data must be collected, but they must also be optimized for sharing across organizations and policy sectors. Thus, the proposed project seeks to develop practices for sharing data among interdisciplinary groups. research objective The purpose of this research is to make health data and metrics more accessible and useful for transportation specialists, elected officials, and others who want to know the health effects of transportation projects. This proposed project would provide a “database of data” to facilitate answering this question at geographic scales relevant to transportation. Two secondary aims are to provide a roadmap for improving data quality at the intersection of health and transportation, and a strategy for data sharing across policy sectors. Instead of putting new mandates on organizations to collect more data, this project will identify the data that both transportation and public health have that mutually aid the other. As health is increasingly at the center of national and local policy debates it is critical for transportation agencies to have data and metrics to show how transportation projects and policies affect health outcomes. These health outcomes need to include general measures of health such as morbidity and mortality, as well as specific diseases (e.g., respiratory disease, cancer) and populations (e.g., maternal and child health, older travelers, rural populations). Anticipated tasks include: Task 1: Review of Existing Resources: Using a detailed review of cases where public health and transportation policy communities have come together to accomplish project design, prioritization, or implementation, this task collects information on data sources (i.e., metadata), metrics, and practices used. Task 2: Roadmap for Improving Data Quality: Using the review in Task 1, as well as interviews with knowledge-rich practitioners, this task identifies and prioritizes important gaps in data, and data quality issues from the implementation perspective. Particular attention should be given to how the geographic and confidentiality challenges noted above can be overcome. Task 3: Develop a Data Sharing Strategy: Using reviews of practice, interviews with professionals in transportation and public health, and expertise in communications and systems design, this task creates a strategy for sharing data across the public health and transportation policy sectors. This task will serve to identify and promote effective approaches to creating and sustaining the interdisciplinary connections needed for integrating health into transportation decision making. These three tasks are an example of how such a project could be structured. Taken together, these tasks would result in practice-ready deliverables. Such deliverables may include a website that provides access to available data sources and their metadata, a library of data documentation and examples of research and projects they have supported, contact information for experts in the data sources, webinars and other opportunities for communicating the findings, as well as actionable recommendations for improving data quality. | E3: ADD20, Social and Economic Factors of Transportation | F3: Environment | G3: Sustainability | K3: Health/Environmental Damage | N3: Programming | O3: Project Development | P3: Data and Information Technology | Q3: Planning and Forecasting | R3: Society | S3: Transportation (General) | T3: Policy | W3: 0 | X3: 0 | Y3: 0.5 | Z3: 0.5
A4: Management of Roadside Trees | B4: http://rns.trb.org/dproject.asp?n=32336 | C4: 41137 | D4: RESEARCH PROBLEM STATEMENT Statistics show that from 2007 through 2009 there were over 11,400 fatalities that resulted from crashes into trees. (Source: Fatal Analysis Reporting System, NHTSA). These crashes accounted for half of the fixed object fatalities and nearly 20% of all roadway departure fatalities. To reduce the numbers of people being killed on the nation’s highways, it is critical that guidelines be developed which consider the risk posed by these objects so that this risk can be managed appropriately. In areas where trees are present along the roadside, a process is needed to determine the level of risk to the motorist. When considering the placement of new trees a similar process should be considered. To that end a better understanding is needed of highway characteristics which experience a higher proportion of motor-vehicle tree crashes, such that trees may be planted with an acceptable lateral offset or maintained in their existing locations without compromising motorist safety. It is not the intent of this project to prove that inclusion of trees is the right thing or wrong thing to do. There is a need for guidance for decision-makers to use in analyzing the risk associated with placement of roadside trees and the maintenance of existing trees. Research is needed to learn how roadside trees can be introduced and maintained without compromising safety. | E4: AFB20, Roadside Safety Design | F4: Society | G4: Environment | K4: Safety | N4: Programming | O4: Project Development | P4: Highways | Q4: Design | R4: Safety and Human Factors | W4: 0 | X4: 0 | Y4: 0.5 | Z4: 0.5
A5: Not all Dementias Are Alike: Implications for Driver Safety Promotion | B5: http://rns.trb.org/dproject.asp?n=32328 | C5: 41137 | D5: I PROBLEM How do different forms of cognitive impairment impact critical driving skills? What intervention strategies are needed to better inform helping professions, licensing authorities, individuals, and family members regarding awareness of variation in impairments by dementia type? How might strategies to promote safe mobility differ by dementia type? Over the past decade, transportation and aging researchers have increased our understanding of Alzheimer’s disease and it impact on critical driving skills (1, 2, 3, 4). While some noted attention has been paid to other dementias (5, 6), much less is known about how those dementias impact critical driving skills in ways other than the impacts observed in persons with Alzheimer’s disease. II. OBJECTIVE The objectives are twofold: 1) Document evidence of the similarities and differences across dementias related to the impact on critical driving skills; and 2) Increase awareness of those similarities and differences and their implications for safety research and practice. The following research activities are envisioned: a. Conduct a literature review of multiple forms of dementia and their impact on critical driving skills. The review should culminate with identifying research gaps or encouraging replication of studies previously conducted with persons with Alzheimer’s disease to validate what measures are transferrable to other cognitive impairments; what impacts on critical driving skills remain constant across dementias; and where impacts may differ by specific dementia. b.Convene three expert panels: 1) health professionals responsible for screening and assessment of impaired drivers; 2) Medical Advisory Board members associated with licensing authorities; and 3) patient care advocates representing dementia-specific organizations. c. Pending the outcomes of activities a and b, determine if sufficient evidence exists to develop informational/toolkit training materials targeted to professionals and to individuals and their family members. (Note: It may be that the first wave of materials developed will be more general in nature to introduce the broad evidence and encourage further research and development of targeted practice strategies). d. Pilot test the toolkits and information developed in item c. e. Work with patient care advocacy organizations to disseminate the information. | E5: ANB60, Safe Mobility of Older Persons | F5: Society | K5: Safety | N5: Programming | P5: Highways | Q5: Planning and Forecasting | R5: Safety and Human Factors | S5: Education and Training | T5: Passenger Transportation | W5: 0 | X5: 0 | Y5: 0.5 | Z5: =SUM(W5:Y5) -> 0.5
A6: Roadside Design for Conflicts in Proximity to Bridge Ends and Intersecting Roadways | B6: http://rns.trb.org/dproject.asp?n=32316 | C6: 41135 | D6: RESEARCH PROBLEM STATEMENT A general problem that occurs at many existing highway bridge locations throughout the United States is where the required length of need for guardrail that is required at bridge ends cannot be installed due to conflicts within the existing Right-of –Way (R/W) limits. The conflicts may consist of an existing intersecting private driveway, state or local roadway intersection or other objects that do not allow the placement of the required guardrail length of need. It is not unusual at some existing bridge sites to have 10 feet or less between the end of the bridge and the conflict. The traditional methods for treating these situations have included using a short radius guardrail system that relocates the barrier around the conflict, using a shorter guardrail section that does not meet the required length of need, using a crash attenuator, relocation of the conflict or leaving the end of bridge barrier unprotected. Since most typical Test level 3 (TL-3) tangent or flared guardrail end treatment systems are normally around 37 – 50 feet in length, there is typically a problem with fitting the end treatment systems and guardrail transitions to the bridge rail at these restricted sites. Additionally, no current short radius guardrail system has been able to meet NCHRP Report 350 or MASH Test Level 3 (TL-3) safety performance criteria for high speed roadways. In many cases the private or public entity is unwilling to relocate the driveway, intersecting roadway or other conflict and the State DOT is left with dealing with a safety problem. Typically these traditional solutions are not very practical for the sites and prevents the bridge end and any other hazards around the bridge from being properly protected by a longitudinal barrier. In many cases the State Department of Transportation’s will require that a design exception be acquired to install anything less than the required length of need with the proper guardrail end treatment. State Department of Transportation’s that use these traditional solutions are also exposed to greater risk to the public being injured in accidents as these sites and future risk to additional litigation from the accidents. RESEARCH OBJECTIVE The primary objective of the research would be to develop safety treatment alternatives to use where intersecting driveways, streets, local roads or other conflicts are placed near a bridge end. The designs should be able to be installed where the intersection or conflict is placed within a short distance (25 – 40 feet) from the bridge end. If required the design should be installed in a short distance down the side intersection conflict of no more than 20 – 30 feet. | E6: AFB20, Roadside Safety Design | F6: Environment | K6: Safety | N6: Programming | O6: Operations | P6: Highways | Q6: Design | R6: Safety and Human Factors | S6: Bridges and other structures | W6: 0 | X6: 0 | Y6: 0.5 | Z6: =SUM(W6:Y6) -> 0.5
A7: Older Road User Evaluation of Road Safety | B7: http://rns.trb.org/dproject.asp?n=32205 | C7: 41123 | D7: Problem A substantial increase in both the number and proportion in total population of older adults is expected for most developed countries. A main point of consideration for road designers and road safety engineers is the resulting rise in the number and proportion of older road users, who, given their physical vulnerability and limitations in terms of perceptual, cognitive, and psychomotor performance, would be more likely to have problems in driving and as pedestrians (Staplin et al, 2001), and to adapt (self-regulate) their behavior accordingly. User-centered roadway design and road improvements should accommodate older road users, the fastest growing population group, by addressing their information needs, limitations and capabilities—and in addition, their perception of risk. A critical highway safety issue is the potential discrepancy between the “objective” risk that is attributed to roadways (road sections, road sites) by road safety professionals’ tools and the “subjective” risk attributed by road users. Such discrepancies can reveal how well roadway infrastructure is understood, perceived, and responded to by road users. This knowledge can inform designers’ ability to accommodate (older) road users, and guide development of educational countermeasures with the potential to influence the perceptions of this group in a manner that enhances their mobility. Objective The objectives of this research are 1) to determine the correlation between the level of safety of particular roadway sites/sections, as perceived by aging road users, and the level of safety provided to the road user according to the International Assessment Programme (iRap) Star Rating protocol; and 2) to identify the site characteristics that account for observed discrepancies between the objective ratings and subjective estimations. The needed research will reveal the correlation between subjective estimated road safety and the RPS, as attributed to the road sections by the Star Rating protocol (see below), and the identification of specific roadway characteristics that most strongly influence perceived safety. Analyses of discrepancies between objective calculations and subjective estimations (implying either overestimation or underestimation by drivers of the safety level of the various road sections) will reveal the design elements that individually or in combination account for these discrepancies. The results of this study could provide valuable input into roadway design and improvements that accommodate older road users, and aid in the development of educational countermeasures for this group. | E7: ANB60, Safe Mobility of Older Persons | F7: Environment | K7: Safety | N7: Programming | O7: Operations | P7: Highways | Q7: Design | R7: Planning and Forecasting | S7: Safety and Human Factors | W7: 0 | X7: 0 | Y7: 0.5 | Z7: =SUM(W7:Y7) -> 0.5
A8: Understanding Variability in Road-Based Passengership Rates between Corridors in Order to Identify Opportunities for Improvement | B8: http://rns.trb.org/dproject.asp?n=31838 | C8: 41078 | D8: RESEARCH PROBLEM STATEMENT The Summary of TCRP Synthesis 98, Ridesharing as a Complement to Transit (page 4) concludes with the following statement: It is highly unlikely that transit can absorb the anticipated growth in vehicles that is predicted over the next decade. Ridesharing needs to be given serious consideration as a solution in partnership with public transit if congestion, pollution, and emissions are to be tamed in the future.[1] It is important for transit to lead the way towards a future where growth in travel demand does not automatically mean growth in private automobile numbers. However, in the current climate of high energy prices and budget shortfalls this is often seen as an impossible dream. Meanwhile, it is often pointed out that there is significant underused capacity in the empty seats of private vehicles, particularly during peak travel times when congestion is at its worst levels. For this problem statement the concept of road-based passengership is introduced. On the basis that traffic congestion occurs on the roads, and that increments to rail capacity take a long time to realize, the opportunity for transit to manage growth in travel demand (and congestion) in the near-term will be tied to the rate at which people are prepared to be passengers when traveling by road – whether in buses, vans, or cars. In terms of the impact on congestion, a traveler who travels as a passenger rather than as a driver has the same impact regardless of mode. The Ridesharing Institute has analyzed the rates of road-based commuter ‘passengership’, that is, the rates at which people using the road for their trip to work ride as passengers, and found significant variation between US cities. As a percent of all road-based commuters, car, van and bus passengers (excluding drivers) range from 5.3% in Akron, Ohio, to 19.7% in New York and 18.2% in Honolulu. Synthesis 98 suggests transit agencies partner with organizations that coordinate ridesharing (carpooling/vanpooling) to help absorb growth in travel demand. Transit agency staff often has no reliable data to help them set targets and strategies for such partnerships. This problem statement suggests developing an understanding of the causes of variation in total passengership and carpool and vanpool passengership, between cities and corridors within cities. The goal is to identify realistic and low-cost strategies based on what is working in high-passengership corridors that is not working in low-passengership corridors. Such strategies could be utilized by low-passengership corridors to raise their total passengership rates, both to complement existing transit and to provide alternatives in situations when transit services are being reduced. They might also help high-passengership corridors identify opportunities to further raise their passengership rates. OBJECTIVE The objective of this project is to develop a model (a multivariate regression model if there is sufficient data, or alternately an interpretational framework or cost-benefit analysis) that can be used to predict the impact of initiatives to increase passengership based on evidence gleaned from a study of high-passengership and low-passengership corridors, together with case studies about the corridors. The model, and the case studies that explain the factors present or absent, will be useful to transit planners in developing initiatives to increase passengership for corridors in their cities. It will be used to asses the types of strategies that are effective, their cost, and impact, and how they can be applied in some currently not well performing metro areas. This can be expected to lead to increases in total mobility across the nation without significant increased transit system cost. RESEARCH PROPOSED The research would include: Phase 1 – Literature review to a) review existing relevant research in this area in order to guide the study; b) update the data used as a basis for this proposal to reflect the most recent American Community Survey data (and/or other relevant sources if others can help to improve the reliability or comprehensiveness of the data) for commuters and other travelers, with a focus on peak-period travel; c) analyze the data into corridors within cities to the extent possible; d) enable extraction of a sufficient sample of high and low passengership corridors for further analysis; e) create a comprehensive listing of all the factors that might lead to variability in the amount of passengership in different corridors. By way of example, the following initial list of potential factors has been identified: 1. Existing and historical situation (city design and layout, mode choice availability and mix, societal culture of alternative mode use in the community, dominance of the car, cost of parking relative to earnings, price of cars, social image of modes, perceptions of safety, business support, commuter benefits, age / generational factors, congestion / traffic factors, etc); 2. Solutions (technologies, infrastructure, and systems at origin ends (casual carpooling/slugging, dynamic/instant rideshare, mobile info apps, ride matching services, feeder services, parking systems, etc that facilitate formation of shared rides, including buses); destination ends (circulator buses, car-sharing, bike-sharing, HOV parking, etc); and along the way (HOV lanes, HOV bypasses, etc); that remove barriers and make it easier, more convenient, and more rewarding for people to share rides), 3. Policy environment (dynamics of the local transportation market, parking charges and structures, tolls, incentives, performance indicators, targets, high occupancy preferential treatment, fuel taxes, etc); and 4. Public engagement (messaging and other strategies that have resulted in commuters being interested in and prepared to do something other than driving alone, or making the shared ride the default, for example. Parallels might be found in the recent successes of recycling, compact fluorescent bulbs, second-hand smoke avoidance, and plastic shopping bag reduction). Create and test a data-collection tool that can be used to capture details of the factors that exist within each of the corridors chosen for further analysis. Phase 2 – Field survey to a) capture all details of the factors that exist within each of the corridors chosen for analysis; b) record this data into a database for analysis; and c) prepare case studies for each corridor outlining the factors and their development over time to deliver the current result that is being achieved. It is envisioned that this data capture will be via the internet, with MPOs or similar organizations being engaged to self-report their chosen corridors in return for workshops to interpret the results (or some similar benefit that would keep the cost of data-collection to a minimum). It is also suggested that the survey capture details for a small sample of corridors in cities in other countries. This phase would also include data from previous field surveys that may have been done in other studies (such as by FHWA). Phase 3 – Analysis of the corridor by corridor data to a) identify any patterns that exist; b) enable to the extent possible the specification of a model or framework that can be used to evaluate other corridors for their potential for greater levels of passengership; and c) specify potential initiatives that the low-passengership corridors (and high-passengership corridors) studied could implement in order to raise their passengership rates. Phase 4 – Documentation and dissemination of the model and case studies and initiative specifications. | E8: AP025(2), Public Transportation Planning and Development Research Needs | F8: Environment | K8: Efficiency | N8: Systems Planning | O8: Programming | P8: Public Transportation | Q8: Planning and Forecasting | R8: Transportation (General) | S8: Passenger Transportation | T8: Policy | W8: 0 | X8: 0.5 | Y8: 0 | Z8: =SUM(W8:Y8) -> 0.5
A9: Uniform Scaling of Performance Measures for Bridge Management Systems | B9: http://rns.trb.org/dproject.asp?n=31793 | C9: 41071 | D9: Background Transportation asset management uses data and objective analysis to improve decision making, with the objective of providing the required level of service in the most cost effective manner. Asset management systems are tools to quantify relevant performance measures, and forecast future outcomes as they are affected by agency policies, resource levels, and exogenous factors. Owners of transportation infrastructure are expected to satisfy a wide range of stakeholder expectations for performance outcomes. Under limited funding, these expectations may conflict with each other. For example, achieving a higher safety objective may require drawing resources away from capacity projects, thus having a negative effect on mobility. Efforts to analyze the tradeoffs among performance measures are made difficult by the dissimilar measurement systems used; for example, condition is often measured in terms of element condition states and health index, while safety is in terms of accident rate and mobility is in terms of delay time and distance. In a multi-objective framework, it is necessary to have a way to standardize the scaling of each relevant performance measure, to make it possible for decision makers to make valid comparisons among dissimilar objectives. NCHRP Project 12-67, published as report 590, developed a utility function framework to enable the optimization of bridge program management decisions considering multiple objectives. It described several methodologies for scaling performance measures to make it possible to compare and weight them in utility functions. The project demonstrated the methods in an informal way, but did not attempt a formal specification or estimation of scaling functions, instead leaving it to each individual agency. AASHTO, state governments, and international agencies have begun to develop bridge management systems that rely on the methods in NCHRP Report 590. All of these systems will need objective scaling functions in order to realize the potential for multi-objective analysis. While the weighting of competing objectives is likely to vary from one agency to another, the uniform single-objective scaling of performance measures is believed likely to be similar across agencies and across asset types, even extending to asset types beyond bridges. Therefore a significant amount of effort may be spared by developing such scaling functions in cooperative research rather than in each agency individually. Objective The objective of this research project is to develop a recommended set of scaling functions, including quantitative parameters, for performance measures that would reasonably be used in bridge management systems to implement the utility function methodology of NCHRP Report 590. In most cases a valid scaled performance measure is a unitless quantity ranging from 0 to 100, where equal intervals have equal value anywhere along the scale. Potential benefits NCHRP Report 590 described the benefits of multi-objective analysis, in terms of assuring that bridge program decisions fully reflect the importance of all aspects of transportation system performance. This is especially important for considerations of risk, safety, and mobility that are not well represented in traditional life cycle cost analysis. Implementation of multi-objective analysis requires the development of utility scaling functions, which Report 590 left to each individual agency. The effort to develop these scaling functions may be considerable, and would have to be repeated separately for each agency. It is believed, however, that the results would be very similar from one agency to another. Many agencies would lack the resources to develop their own functions, or to apply the necessary careful study design to ensure that the scaling functions are objective and credible to a wide range of stakeholders typical of asset management. Performing this study once and for all, would save each state from having to do it individually, thus reducing the total cost by potentially 90-95%, taking advantage of the power of cooperative research. Relationship to existing body of knowledge Existing research studies, including NCHRP Report 590 and the FHWA Long-Term Bridge Program, have identified lists of relevant performance measures. Some of these measures are well documented, as in the AASHTO Guide Manual for Bridge Element Inspection and the FHWA National Bridge Inventory Coding Guide. Other measures of performance, especially risk, may need to be gathered and synthesized from current research in order to specify a list to explore further. The level of service approach to performance assessment may provide a means of standardizing the descriptions of performance measures without tying these measures to specific measurement technology. This approach is commonly used in Maintenance Quality Assurance programs and described in the AASHTO Guide for Asset Management Volume 2: Focus on Implementation. Levels of service correspond to definitions of acceptable or unacceptable performance, and are further refined by identifying the criteria where preventive maintenance, risk mitigation, or life extension actions are applicable. Currently the only research report that specifically addresses scaling functions for bridge management performance measures, is NCHRP Report 590. This report describes a set of applicable methods but does not try to quantify them. The proposed research will include the data collection activity necessary to quantify and validate scaling functions. Tasks It is envisioned that the research will involve at least the following tasks: Gather and synthesize the performance measures relevant to bridge management systems, including domestic and international practice. The research should consider measures that may become possible with the completion of the FHWA long-term performance program, and measures that may be broadly applicable across asset management (not strictly limited to bridges). This task includes a literature review which extends to updating the NCHRP Report 590 literature review as concerns scaling functions. Identify a sample panel of 50-100 bridge owners and other stakeholders and experts, representing the full range of such agencies by geography, level of government, size, climate, and organizational environment. The panel could exceed 50 members when considering the various organizational perspectives (engineering, planning, regional, etc.) in each agency. The sample panel will review the list of performance measures to be considered in the research, and will provide the expert elicitation data required in the next task, by electronic means. For a set of applicable scaling methods, including but not limited to the methods discussed in NCHRP Report 590, gather and synthesize expert opinion required for development of scaling functions. This includes development of one or more survey instruments and execution of a survey. One or more webinars and/or in-person gatherings of the sample panel will be necessary to ensure panelist understanding and maximize the quality of the data. Use statistical estimation methods to develop scaling functions for the applicable methods. Measure the level of consistency and reliability of the various methods for each performance measure. Quantify the variance of scaling parameters by level of government, geography, climate, size, or other relevant agency characteristics. Recommend and document a scaling function, including quantitative parameters, for each performance measure. Describe the variance of parameters according to agency characteristics. Recommend procedures to customize the scaling functions for each agency. Demonstrate the application of the scaling function in an example multi-objective optimization context. This could be done using Pontis 5.2, or another bridge management system or model that is able to effectively demonstrate the method in action. Prepare a Final Report. Implementation activities This research is envisioned to feed directly into existing efforts to develop multi-objective optimization models in bridge management systems. It will provide default models and methods each agency can use as it customizes BMS models for its own use. Continued FHWA and AASHTO support for bridge management systems, and in general for asset management and performance management, will help to ensure successful and widespread implementation. | E9: AHD35, Bridge Management | F9: Environment | N9: Systems Planning | O9: Programming | P9: Administration and Management | Q9: Maintenance and Preservation | R9: Bridges and other structures | W9: 0 | X9: 0 | Y9: 0 | Z9: =SUM(W9:Y9) -> 0
A10: Bridging the Digital Divide: Ensuring Information Equity for Electronic Communications | B10: http://rns.trb.org/dproject.asp?n=31742 | C10: 41051 | D10: SCOPE: Transit agencies are increasingly using electronic forms of customer communication, including social media channels and mobile applications that provide real-time information and rider alerts. These new forms of communication provide benefits to transit properties and their customers, but questions remain about whether these channels can bridge the digital divide, or the perceived gap between people who have access to technology and those who do not. Two recent TCRP synthesis studies touched upon this issue. Report 91, Use and Deployment of Mobile Device Technology for Real-Time Transit Information, briefly addressed the question of information equity, defined as “providing real-time information by means of at least two dissemination media in both audio and visual formats.” Report 99 (forthcoming), Uses of Social Media in Public Transportation, identified multicultural considerations as an area for further research. However, these considerations were not the primary focus of either research effort. Issues associated with information equity include the following: · Access to mobile technology · Internet access · Broadband access · Social media use · Access for people with disabilities · Linguistic and cultural diversity Recent research from organizations like the Pew Research Center and the National Telecommunications and Information Administration demonstrates the complexity of this issue. While most U.S. adults own a cell phone of some kind, smart phone ownership varies by age, race, education, and income. For example, about 44% of blacks and Latinos use smart phones, compared to 30% of whites. Internet access and, especially, broadband access also shows variation. In 2011, 94% of young adults (aged 18-29) used the Internet compared to 41% of seniors (aged 65 and over). Looking at race, 80% of white Americans had Internet access, compared to 71% of African-Americans and 68% of Hispanics. And in 2010, 70% of urban households had broadband Internet access versus 60% of rural households, highlighting a geography gap. While people in all age groups use social media, teens and young adults are more likely to use the platforms than older adults. For example, more than three out of four teenagers and adults aged 18-24 had an online personal profile in 2010, compared to 13% of those aged 65 and over. Finally, some web-based and mobile applications have made it easier for people with disabilities to navigate transit systems, but adoption is not universal. In one survey from the Pew Research Center, 54% of adults living with a disability use the Internet, compared with 81% of adults who did not report a disability. Transit operators are taking different approaches to ensure that their electronic information reaches all customers. For example, Chicago Transit Authority makes its real-time service updates available in SMS text-message format to reach customers without smart phones. Washington Metro plans to add next-bus digital signs at major bus stops so that all customers – not just those equipped with cell phones – can access real-time arrival predictions. The Los Angeles County Metropolitan Transportation Authority writes two separate blogs for its customers – English-language The Source and Spanish-language El Pasajero. Complicating the issue is the proliferation of third-party applications. Many agencies, like the Massachusetts Bay Transportation Authority and the New York Metropolitan Transportation Authority, actively encourage the developer community to create web- and mobile-based applications based on agency data. While agencies can take steps to ensure that as many customers as possible can access digital communications (by making information available by text and voice, for example), they have less control over third-party applications. The synthesis would explore these issues and identify best practices for ensuring that digital communications reach as many riders as possible. | E10: AP030, Public Transportation Marketing and Fare Policy | F10: Equity | K10: Intragenerational Equity | L10: Access | N10: Programming | O10: Project Development | P10: Public Transportation | Q10: Data and Information Technology | W10: 0 | X10: 0 | Y10: 0.5 | Z10: =SUM(W10:Y10) -> 0.5
A11: Information Clearinghouse for Utilities | B11: http://rns.trb.org/dproject.asp?n=31683 | C11: 41047 | D11: The amount of utility-related resources and literature available to assist utility stakeholders in performing their duties continues to increase. However, there is currently no information clearinghouse that allows practitioners to easily exchange or otherwise access a wide array of utility-related resources. For example, if an agency wishes to learn how much detail other agencies require on permit forms for utility installations, the search can be time consuming, and critical information can be missed. Many stakeholders would benefit greatly from a national clearinghouse that stores and organizes utility-related resources. A critical first step is to prepare a plan for developing and operating this information clearinghouse. The plan should answer questions such as: which organizations should be involved, how to get started, what should be the implementation timeline, how much it will cost, and what strategies should be put in place to ensure the long-term sustainability of the information clearinghouse. The purpose of this research is to develop a master plan for the implementation of a national clearinghouse for utility information. Specific objectives follow:Identify the organizations to be involved (e.g., FHWA, AASHTO, APWA, IRWA, DBIA, the utility industry, and academia); · Conduct a survey of stakeholders and practitioners to help characterize the purpose, content, and structure of a national clearinghouse for utility information; · Investigate a sample of successful information clearinghouses in transportation, and identify key features; · Develop and test a prototype architecture for a web-based information clearinghouse; · Prepare an implementation plan that includes items such as start-up and annual costs, potential funding sources, maintenance responsibilities, sources of information, staff requirements, warehousing needs, and information exchange protocols; · Prepare a report containing findings and recommendations. | E11: AFB70, Utilities | F11: Sustainability | N11: Operations | P11: Highways | Q11: Pipelines | R11: Data and Information Technology | S11: Design | W11: 0 | X11: 0 | Y11: 0 | Z11: =SUM(W11:Y11) -> 0
A12: Weekday Exception Scheduling in Rapid Transit Systems | B12: http://rns.trb.org/dproject.asp?n=30041 | C12: 41037 | D12: I. Research Problem Statement Weekday exception scheduling in rail transit services can potentially provide better service to customers by matching transit supply to ridership demand more precisely, while also reduce operating costs of urban transit systems. Specifically, treating Fridays (and perhaps also Mondays) differently from other weekdays offers interesting possibilities. As commuters trend towards more flexible work scheduling, telecommuting arrangements, and 4½-day weeks, gaps between midweek and Friday ridership have widened. Exception schedules neither were nor are unusual; transit operators ran full Saturday lunchtime rush-hours in the interwar era, while private bus companies, airlines, and freight railroads operate exceptions today. Systematic consideration of day-of-week scheduling in urban local buses and suburban express buses confirmed that Friday modifications were best leveraged in properly distributing services. While routes clearly have different day-of-week ridership characteristics, overall trends were not clear. Some routes have barely discernable Friday ridership effects whereas others have large and quite actionable effects. Work is needed to confirm rail transit ridership patterns, and identify and quantify underlying factors affecting Friday rail rapid ridership deviations from weekday averages. Some indices for route properties (number and size of business districts served, station character, route length, stop spacing, express/local/zonal service, “radialness” or “feederness”, and whether colleges were present) could be developed and correlated to ridership patterns and trends. Earlier studies have shown that labor agreements permitting Friday scheduling exceptions as part of picked/bid crew schedules could reduce bus operating costs by 0.6% using vehicle-hours estimation methodology in a typical urban environment. Available savings were route-specific, with 25% service reductions possible on some, whereas 25% service fortification was required on others with higher Friday ridership. However, no run-cutting studies (even in buses) have been completed to validate these findings. Generation of proposed Fridays-only operating plans and run-cuts in a typical rapid transit environment, followed by detailed scenario testing through computerized run-cutting, is required to validate cost savings. Implementing a separate rapid transit schedule tailored to Friday ridership could result in implementation issues. Research is required to identify issues and determine possible mitigation strategies. Issues include: systems with infrequent service or network features like timed-transfers may be negatively impacted by small Fridays-only reductions; customers may become confused by a separate Friday schedule; supporting infrastructure (payroll, internal reports) may be unavailable. II. Research Objective The research would seek to answer the following questions: Are Friday exception scheduling feasible in a rail rapid transit operating environment? Do the ridership patterns in rail rapid transit support such a policy change in a broad range of operating environments? What are the labor agreements needed to facilitate picked/bid Friday schedules? Do current labor agreements provide a good starting point? How can the necessary agreements be reached? Are there any specific route characteristics that lends itself to a different schedule being operated on Fridays or any other day of the week? What are the demographic variables that generally gives rise to weekday exceptions? What are the magnitudes of operating cost savings available if Friday exceptions were part of the base schedule? What are the general trends in time periods/routes that require service fortification on Fridays, versus service reduction? Are there seasonal effects? What are the implementation issues in a typical rapid transit environment? What are the best practices? | E12: AP065, Rail Transit Systems | F12: Environment | K12: Efficiency | N12: Programming | O12: Operations | P12: Public Transportation | Q12: Railroads | R12: Administration and Management | S12: Planning and Forecasting | T12: Policy | W12: 0 | X12: 0.5 | Y12: 0 | Z12: =SUM(W12:Y12) -> 0.5
A13: Pricing Strategies for Public Transit Fares | B13: http://rns.trb.org/dproject.asp?n=29859 | C13: 40994 | D13: I. Research Problem Statement Fare policy is one of the most effective tools available to public transit agencies to influence revenue and ridership levels. Often, however, their effectiveness is limited because of inflexible fare structures and lack of market orientation. Innovative pricing strategies may help balance multiple policy objectives, such as revenue and ridership targets, demand management, and social equity considerations. Faced with fare revenue shortfalls and declining household income levels transit agencies are looking for ways to improve the effectiveness of their fare policies. Many have adopted private sector models, such as price differentiation and revenue management (yield management) strategies to be better able to respond to changes in demand. II. Research Objective Describe pricing theories and strategies, and their application to fare policy. This will include a review of innovative fare policy and yield management strategies that have been adopted by transit agencies both in the U.S. and internationally. Special consideration shall be given to examples of pricing strategies from the private sector and their adoption by the public sector. In particular, the study will address the following questions: • What are examples of innovative pricing strategies that are being used or have the potential to be adopted by transit agencies, and what are the lessons-learned? • How can specific fare policy objectives be reflected in different pricing strategies and fare structures? • What are examples for successful pricing strategies in regard to: o Time of day fares o Day of week fares o Service categories and premium service surcharges o Disaggregate fare elasticities and the Willingness to Pay o Limited time and promotional fares o Loyalty programs and incentives o Employer and university pass programs • How can transit agencies balance the need to simplify the fare structure while differentiating fares for different market segments, and what is the customer acceptance? • What are ways to balance revenue optimization with equity and social justice requirements? • What are relevant metrics to evaluate the effectiveness of pricing strategies (revenue per seat mile, revenue per train mile, revenue per passenger mile, etc.?) • What are Best Practices for researching, designing and implementing differentiated pricing structures? | E13: AP030, Public Transportation Marketing and Fare Policy | F13: Equity | K13: Safety | L13: Efficiency | N13: Operations | P13: Public Transportation | Q13: Passenger Transportation | R13: Finance | W13: 0 | X13: 0 | Y13: 0.5 | Z13: =SUM(W13:Y13) -> 0.5
A14: The Value of Life-Cycle Costing and Asset Management in Public Private Partnerships | B14: http://rns.trb.org/dproject.asp?n=29855 | C14: 40991 | D14: I. RESEARCH PROBLEM STATEMENT While it is paramount to invest on infrastructure in order to maintain economic competitiveness, traditional funding mechanisms for surface transportation facilities – primarily the gas tax – have not increased in the same rate as the transportation investment needs, and are quickly losing their ability to fund the transportation system. The result is a widening gap between expenditures and revenues. There have been many efforts to bridge this funding gap using direct user charges or increasing taxes, which can be directly leveraged. However, among all different options that can be used to bridge the gap, indirect leveraging through Public Private Partnerships (PPP) has received special attention, particularly because PPPs can leverage public resources and use the efficiency of the private sector to make the delivery of previously infeasible projects more possible. Nevertheless, Public Private Partnership agreements are usually very complex, are associated with huge uncertainties and require a long term analysis of costs and revenues. Asset management requires a strategic approach to consider on-going operation and maintenance needs while involving the economic assessment of trade-offs among alternative options. This approach combines engineering and economic analysis to identify cost-effective investment decisions. While companies bidding on Public-Private Partnerships must consider this long-term approach to optimize a bid that includes annual resources for operation, maintenance and replacement costs as well as repayment of lenders and a return on equity investment, public investment decisions are often made with short-term time horizons that may not incorporate life-cycle costing and long-term asset management perspectives. This approach may result in fewer uses of preventive maintenance techniques which may significantly increase the total cost of the project over its life-cycle. This research topic focuses on how life-cycle costing and asset management techniques can be incorporated into public decision making in order to better evaluate PPP proposals and bids to increase the long term value of PPP projects for societies, as well as to better incorporate life-cycle costing and asset management perspectives in public decision-making relating to non-PPP projects. II. OBJECTIVE The objective of this research is to identify how life-cycle costing and asset management techniques can be incorporated into the public decision making process. This should include how future revenues and costs for a PPP project can be estimated, how the risks associated with the revenues and costs can be identified and quantified, and how a Decision Support System (DSS) can be developed in order to incorporate the mentioned elements into public decisions. This Decision Support System will provide decision makers much needed information on the impacts of different life-cycle cost items and risks associated with them on evaluation and comparison of PPP proposals and bids. | E14: ABE10, Revenue and Finance | F14: Equity | G14: Society | K14: Efficiency | L14: Affordability | N14: Project Development | P14: Administration and Management | Q14: Transportation (General) | R14: Finance | S14: Economics | W14: 0 | X14: 0.5 | Y14: 0 | Z14: =SUM(W14:Y14) -> 0.5
